Workbook
Name ○: 証明書!#REF!
Name ○1: 証明書!#REF!
Name 〇2: 証明書!#REF!
Name 〇3: 証明書!#REF!
Name 〇4: 証明書!#REF!
Name 〇5: 証明書!#REF!
Name 〇6: 証明書!#REF!
Name 〇7: 証明書!#REF!
Name 〇8: 証明書!#REF!
Name 〇9: 証明書!#REF!
Name なし: 証明書!#REF!
Name なし1: 証明書!#REF!
Name なし2: 証明書!#REF!
Name なし3: 証明書!#REF!
Name なし4: 証明書!#REF!
Name なし5: 証明書!#REF!
Name なし6: 証明書!#REF!
Name なし7: 証明書!#REF!
Name なし8: 証明書!#REF!
Name なし9: 証明書!#REF!
Name 図形: INDIRECT(証明書!#REF!)
Name 図形1: INDIRECT(証明書!#REF!)
Name 図形2: INDIRECT(証明書!#REF!)
Name 図形3: INDIRECT(証明書!#REF!)
Name 図形4: INDIRECT(証明書!#REF!)
Name 図形5: INDIRECT(証明書!#REF!)
Name 図形6: INDIRECT(証明書!#REF!)
Name 図形7: INDIRECT(証明書!#REF!)
Name 図形8: INDIRECT(証明書!#REF!)
Name 図形9: INDIRECT(証明書!#REF!)

Sheet 摘要要件・添付書類
A1: 住宅用家屋証明書申請摘要要件及び添付書類
B3: 《摘要要件【A】》
C4: 1 | D4: 個人が新築又は取得した家屋
C5: 2 | D5: 床面積５０㎡以上
C6: 3 | D6: 専用住宅家屋 併用住宅は住宅部分が９０％超のみ該当
D7: （隣接する車庫・物置は、一個の建物として登記する場合に限る）
C8: 4 | D8: 新築１年以内、又は取得後１年以内の登記
C9: 5 | D9: 入居済又は予定である
C10: 6 | D10: 耐震性能確認：下記①②③のいずれかに該当すること
D11: ①昭和57年1月1日以降に建築された家屋
D12: ②建築基準法施行令第3章及び第5章の4の規定に適合する(S57.1.1より前に建築された家屋)
D13: ③地震に対する安全性に係る基準に適合する(S57.1.1より前に建築された家屋)
B15: 《摘要要件【B】》
C16: 1 | D16: 個人が宅地建物取引業者から取得した家屋
C17: 2 | D17: 床面積５０㎡以上
C18: 3 | D18: 専用住宅家屋 併用住宅は住宅部分が９０％超のみ該当
D19: （隣接する車庫・物置は、一個の建物として登記する場合に限る）
C20: 4 | D20: 入居済又は予定である
C21: 5 | D21: 耐震性能確認：下記①②③のいずれかに該当すること
D22: ①昭和57年1月1日以降に建築された家屋
D23: ②建築基準法施行令第3章及び第5章の4の規定に適合する(S57.1.1より前に建築された家屋)
D24: ③地震に対する安全性に係る基準に適合する(S57.1.1より前に建築された家屋)
C25: 6 | D25: 取得時において新築された日から10年経過している
C26: 7 | D26: 宅地建物取引業者が家屋を取得、リフォーム工事後、再販売するまでの期間が２年以内
C27: 8 | D27: 建物価格に占めるリフォーム工事の総額の割合が20％以上
D28: （リフォーム工事の総額が300万以上の場合は300万円）
C29: 9 | D29: 祖令第４２条の２の２に定める工事が行われたこと ※1
C30: ※１ 【工事の内容】
C31: （１）増築、改築、建築基準法上の大規模な修繕又は模様替
C32: （２）マンションの場合で、床又は階段・間仕切り壁・主要構造部である壁のいずれかのものの過半について行う修繕又は模様替
C33: （３）居室・調理室・浴室・便所・その他の室（洗面所・納戸・玄関・廊下）のいずれか）の床又は壁の全部についての修繕・模様替
C34: （４）一定の耐震基準に適合させるための修繕又は模様替
C35: （５）バリアフリー改修工事（以下①～⑧のいずれかの工事）
C36: ①車いすで移動するための通路又は出入口の拡幅 ②階段の勾配の緩和 ③浴室の改良（一定のものに限る）
C37: ④便所の改良（一定のものに限る） ⑤手すりの取付 ⑥段差の解消 ⑦出入口の戸の改良（一定のものに限る）
C38: ⑧滑りにくい床材料への取り替え
C39: （６）省エネ改修工事（改修部位の省エネ性能がいずれも平成１１年基準以上となる工事で、以下の①又は①と併せて行う②～④の工事）
C40: ①窓の断熱性を高める工事又は日射遮断性を高める工事 ②天井及び屋根の断熱改修 ③壁の断熱改修 ④床の断熱改修
C41: （７）給水管、配水管又は雨水の浸入を防止する部分に係る工事
... C46: 既存住宅売買瑕疵担保責任保険に加入していること
...

Sheet 記入例
A1: 住 宅 用 家 屋 証 明 申 請 書
H3: （イ） | K3: 第４１条
J6: 特定認定長期優良住宅又は認定低炭素住宅以外
K7: (ａ) 新築されたもの
K8: (ｂ) 建築後使用されたことのないもの
J9: 特定認定長期優良住宅
K10: (ｃ) 新築されたもの
K11: (ｄ) 建築後使用されたことのないもの
A12: 租税特別措置法施行令 | J12: 認定低炭素住宅
K13: (ｅ) 新築されたもの
K14: (ｆ) 建築後使用されたことのないもの
H15: （ロ）
K16: 第４２条 第１項（建築後使用されたことのあるもの）
K18: (ａ) 第４２条の２の２に規定する特定の増改築等がさ
K19: れた家屋で宅地建物取引業者から取得したもの
K20: (ｂ) (ａ)以外
A23: の規定に基づき、下記の家屋がこの規定に該当するものである旨の証明を申請します。
A25: 沼田市長 星 野 稔 様 | T25: 20XX | W25: 年 | X25: 〇 | Z25: 月 | AA25: 〇 | AD25: 日
A29: 申請者の住所 | H29: 沼田市●●町８８８番地
A30: 申請者の氏名 | H30: 沼田 太郎 | W30: 持分 2分の1
H31: 沼田 花子 | W31: 持分 2分の1
I34: 代理人 | M34: 住所 | P34: 群馬県□□市△町１１１１
M35: 氏名 | P35: 群馬 一郎
M36: 電話番号 | Q36: ××－××××-□□□□
A38: 家 屋 の 所 在 地 | H38: 家屋番号 : | M38: ８８８番
H39: 沼田市●●町字□□ ８８８番地
A40: 新築年月日
A41: 取得年月日 | H41: 20××年 ○月 □日
A42: 取得の原因 | H42: （１） 売 買
A43: （移転登記の場合に記入）
A44: 申請家屋への居住 | H44: （１） 入 居 済
A45: 床面積 | I45: 1階 | K45: 50 | N45: ㎡ | P45: 2階 | R45: 5 | U45: ㎡ | W45: 合計 | Y45: =K45+R45 -> 55 | AB45: ㎡
A46: 構造 | H46: 木造瓦葺２階建て
A47: 区分建物の耐火性能 | H47: （１） 耐火又は準耐火
A48: 工事費用の総額 | Z48: 円
A49: ((ロ)(ａ)の場合に記入)
A50: 売買価格 | Z50: 円
A51: (ロ)(ａ)の場合に記入)

Sheet 申請書
A1: 住 宅 用 家 屋 証 明 申 請 書
H3: （イ） | K3: 第４１条
J6: 特定認定長期優良住宅又は認定低炭素住宅以外
K7: (ａ) 新築されたもの
K8: (ｂ) 建築後使用されたことのないもの
J9: 特定認定長期優良住宅
K10: (ｃ) 新築されたもの
A11: 租税特別措置法施行令 | K11: (ｄ) 建築後使用されたことのないもの
J12: 認定低炭素住宅
K13: (ｅ) 新築されたもの
K14: (ｆ) 建築後使用されたことのないもの
H15: （ロ）
K16: 第４２条 第１項（建築後使用されたことのあるもの）
K18: (ａ) 第４２条の２の２に規定する特定の増改築等がさ
K19: れた家屋で宅地建物取引業者から取得したもの
K20: (ｂ) (ａ)以外
A22: の規定に基づき、下記の家屋がこの規定に該当するものである旨の証明を申請します。
A24: 沼田市長 星野 稔 様 | W24: 年 | Z24: 月 | AD24: 日
A28: 申請者の住所
A29: 申請者の氏名
L33: 申請代理人 | M33: 住所
M34: 氏名
M35: 電話番号
A37: 家 屋 の 所 在 地 | H37: 家屋番号：
A39: 新築年月日
A40: 取得年月日
A41: 取得の原因
A42: （移転登記の場合に記入）
A43: 申請家屋への居住
A44: 床面積 | I44: 1階 | N44: ㎡ | P44: 2階 | U44: ㎡ | W44: 合計 | Y44: =K44+R44 -> 0 | AB44: ㎡
A45: 構造
A46: 区分建物の耐火性能
A47: 工事費用の総額 | Z47: 円
A48: ((ロ)(ａ)の場合に記入)
A49: 売買価格 | Z49: 円
A50: ((ロ)(ａ)の場合に記入)

Sheet 証明書
A1: 3
A4: 住宅用家屋証明書
D6: （イ） | E6: 第４１条
D7: 特定認定長期優良住宅又は認定低炭素住宅以外
E8: （ａ） | F8: 新築されたもの
E9: （ｂ） | F9: 建築後使用されたことのないもの
D10: 特定認定長期優良住宅
E11: （ｃ） | F11: 新築されたもの
A12: 租税特別措置法施行令 | E12: （ｄ） | F12: 建築後使用されたことがないもの
D13: 認定低炭素住宅
E14: （ｅ） | F14: 新築されたもの
E15: （ｆ） | F15: 建築後使用されたことがないもの
D16: （ロ） | E16: 第４２条 第１項（建築後使用されたことがあるもの）
E17: （ａ） | F17: 第４２条の２の２に規定する特定の増改築等がされた
F18: 家屋で、宅地建物取引業者から取得したもの
E19: （ｂ） | F19: （ａ）以外
A21: の規定に基づき、下記の家屋（ | E21: =申請書!H39+申請書!H40 -> 0 | G21: 、 | H21: =IF(申請書!H39<>"","新築","取得") -> 取得 | I21: ）がこの規定に該当するもの
A22: である旨を証明します。
D24: =申請書!H28 -> 0
A25: 申請者の住所
A28: 申請者の氏名 | D28: =申請書!H29 -> 0 | I28: =申請書!W29 -> 0
D29: =申請書!H30 -> 0 | I29: =申請書!W30 -> 0
D30: =申請書!H31 -> 0 | I30: =申請書!W31 -> 0
A31: 家 屋 の 所 在 地 | D31: =申請書!H37 -> 家屋番号： | F31: =申請書!M37 -> 0
D32: =申請書!H38 -> 0
A34: 取得の原因 | D34: =申請書!H41 -> 0
A40: 年 月 日
F42: 沼田市長 星 野 稔

Sheet 共有
J2: 証明第 | K2: =IF(O5="","",VLOOKUP(O5,#REF!,2,FALSE)) -> #REF! | L2: 号
O4: 番号入力
A5: 住宅用家屋証明書 | O5: 97
C7: （イ）第４１条
C8: 特定認定長期優良住宅又は認定低炭素住宅以外
C9: （ａ）新築されたもの
C10: （ｂ）建築後使用されたことのないもの
C11: 特定認定長期優良住宅
C12: （ｃ）新築されたもの
A13: 租税特別措置法施行令 | C13: （ｄ）建築後使用されたことがないもの
C14: 認定低炭素住宅
C15: （ｅ）新築されたもの
C16: （ｆ）建築後使用されたことがないもの
C17: （ロ）第４２条第１項（建築後使用されたことがあるもの）
C18: （ａ）第４２条の２の２に規定する特定の増改築等がされた
D19: 家屋で、宅地建物取引業者から取得したもの
C20: （ｂ） （ａ）以外
A22: の規定に基づき、下記の家屋（ | D22: =IF(O5="","",VLOOKUP(O5,#REF!,4,FALSE)) -> #REF! | F22: =IF(O5="","",VLOOKUP(O5,#REF!,5,FALSE)) -> #REF! | G22: ）がこの規定に該当するもの
A23: である旨を証明します。
A26: 申請者の住所 | C26: 沼田市 | D26: =IF(O5="","",VLOOKUP(O5,#REF!,7,FALSE)) -> #REF!
A30: 申請者の氏名 | C30: 持分２分の１ | E30: =IF(O5="","",VLOOKUP(O5,#REF!,8,FALSE)) -> #REF!
C32: 持分２分の１ | E32: =IF(O5="","",VLOOKUP(O5,#REF!,9,FALSE)) -> #REF!
C35: 家屋番号 | E35: =IF(O5="","",VLOOKUP(O5,#REF!,10,FALSE)) -> #REF!
A36: 家屋の所在地
C37: 沼田市 | D37: =IF(O5="","",VLOOKUP(O5,#REF!,11,FALSE)) -> #REF!
A39: 取得の原因 （移転登記の場合）
C40: =IF(O5="","",VLOOKUP(O5,#REF!,12,FALSE)) -> #REF!
A44: =IF(O5="","",VLOOKUP(O5,#REF!,3,FALSE)) -> #REF!
E46: 沼田市長 星 野 稔

Sheet 41条手書き
K2: 証明第 | L2: =IF(P5="","",VLOOKUP(P5,#REF!,2,FALSE)) -> #REF! | M2: 号
P4: 番号入力
A5: 住宅用家屋証明書 | P5: 99
C7: （イ）第４１条
C8: 特定認定長期優良住宅又は認定低炭素住宅以外
C9: （ａ）新築されたもの
C10: （ｂ）建築後使用されたことのないもの
C11: 特定認定長期優良住宅
C12: （ｃ）新築されたもの
A13: 租税特別措置法施行令 | C13: （ｄ）建築後使用されたことがないもの
C14: 認定低炭素住宅
C15: （ｅ）新築されたもの
C16: （ｆ）建築後使用されたことがないもの
C17: （ロ）第４２条第１項（建築後使用されたことがあるもの）
C18: （ａ）第４２条の２の２に規定する特定の増改築等がされた
D19: 家屋で、宅地建物取引業者から取得したもの
C20: （ｂ） （ａ）以外
A22: の規定に基づき、下記の家屋（ | D22: =IF(P5="","",VLOOKUP(P5,#REF!,4,FALSE)) -> #REF! | F22: 、 | G22: =IF(P5="","",VLOOKUP(P5,#REF!,5,FALSE)) -> #REF! | H22: ）がこの規定に該当するもの
A23: である旨を証明します。
A26: 申請者の住所 | C26: 沼田市 | D26: =IF(P5="","",VLOOKUP(P5,#REF!,6,FALSE)) -> #REF!
A30: 申請者の氏名 | C30: =IF(P5="","",VLOOKUP(P5,#REF!,7,FALSE)) -> #REF!
C33: 家屋番号 | E33: =IF(P5="","",VLOOKUP(P5,#REF!,9,FALSE)) -> #REF!
A34: 家屋の所在地
C35: 沼田市 | D35: =IF(P5="","",VLOOKUP(P5,#REF!,10,FALSE)) -> #REF!
A37: 取得の原因 （移転登記の場合）
C38: =IF(P5="","",VLOOKUP(P5,#REF!,11,FALSE)) -> #REF!
A43: =IF(P5="","",VLOOKUP(P5,#REF!,3,FALSE)) -> #REF!
E45: 沼田市長 星 野 稔
